BEGIN:VCALENDAR
VERSION:2.0
PRODID:-//Connecting people and opportunity for a stronger community - ECPv6.15.20//NONSGML v1.0//EN
CALSCALE:GREGORIAN
METHOD:PUBLISH
X-WR-CALNAME:Connecting people and opportunity for a stronger community
X-ORIGINAL-URL:https://chalmersrenewal.org
X-WR-CALDESC:Events for Connecting people and opportunity for a stronger community
REFRESH-INTERVAL;VALUE=DURATION:PT1H
X-Robots-Tag:noindex
X-PUBLISHED-TTL:PT1H
BEGIN:VTIMEZONE
TZID:America/Winnipeg
BEGIN:DAYLIGHT
TZOFFSETFROM:-0600
TZOFFSETTO:-0500
TZNAME:CDT
DTSTART:20250309T080000
END:DAYLIGHT
BEGIN:STANDARD
TZOFFSETFROM:-0500
TZOFFSETTO:-0600
TZNAME:CST
DTSTART:20251102T070000
END:STANDARD
BEGIN:DAYLIGHT
TZOFFSETFROM:-0600
TZOFFSETTO:-0500
TZNAME:CDT
DTSTART:20260308T080000
END:DAYLIGHT
BEGIN:STANDARD
TZOFFSETFROM:-0500
TZOFFSETTO:-0600
TZNAME:CST
DTSTART:20261101T070000
END:STANDARD
BEGIN:DAYLIGHT
TZOFFSETFROM:-0600
TZOFFSETTO:-0500
TZNAME:CDT
DTSTART:20270314T080000
END:DAYLIGHT
BEGIN:STANDARD
TZOFFSETFROM:-0500
TZOFFSETTO:-0600
TZNAME:CST
DTSTART:20271107T070000
END:STANDARD
END:VTIMEZONE
BEGIN:VEVENT
DTSTART;TZID=America/Winnipeg:20260318T180000
DTEND;TZID=America/Winnipeg:20260318T200000
DTSTAMP:20260420T074358
CREATED:20260309T185136Z
LAST-MODIFIED:20260309T185136Z
UID:6981-1773856800-1773864000@chalmersrenewal.org
SUMMARY:Sharing Circle - 03/18/26
DESCRIPTION:🌿 Come and join us in a safe and welcoming circle where everyone is heard\, respected\, and supported. 💬✨ \nSharing Circles originate in Indigenous traditions and have been generously shared for the benefit and participation of all communities. Their purpose is to help create a shared space where all voices are invited and heard. It is a comfortable and private space to share life experiences\, challenges and successes\, gratitude\, intentions moving forward and more. There will be free snacks and drinks provided\, as well as a talking stick to guide conversation. This is a space to share stories\, connect with others\, and build understanding together! \nCome join us\, all voices are welcome and encouraged! The Sharing Circle runs every two weeks on Wednesdays\, from 6-8pm.
URL:https://chalmersrenewal.org/calendar/sharing-circle-03-18-26/
LOCATION:Chalmers renewal\, 180 Poplar avenue\, Winnipeg\, Manitoba\, R2L 2C3\, Canada
CATEGORIES:Community events
END:VEVENT
END:VCALENDAR